View In:
ArcGIS JavaScript
ArcGIS Online Map Viewer
ArcGIS Earth
ArcGIS Pro
Service Description: <div style='text-align:Left;font-size:12pt'><p><span>Mapa turystyczna bazują</span><span>c</span><span>a na nowej bazie danych bdl_turystyka</span><span> - bez szlaków i obozowisk harcerskich</span></p></div>
Map Name: Mapa_turystyczna_mBDL
Legend
All Layers and Tables
Dynamic Legend
Dynamic All Layers
Layers:
Description: Mapa turystyczna bazująca na nowej bazie danych bdl_turystyka - bez szlaków i obozowisk harcerskich
Copyright Text:
Spatial Reference:
102100
(3857)
LatestVCSWkid(0)
Single Fused Map Cache: true
Tile Info:
- Height: 256.0
- Width: 256.0
- DPI: 96.0
-
Levels of Detail: 24
-
Level ID: 1
[ Start Tile, End Tile ]
- Resolution: 78271.5169639999
- Scale: 2.95828763795777E8
-
Level ID: 2
[ Start Tile, End Tile ]
- Resolution: 39135.7584820001
- Scale: 1.47914381897889E8
-
Level ID: 3
[ Start Tile, End Tile ]
- Resolution: 19567.8792409999
- Scale: 7.3957190948944E7
-
Level ID: 4
[ Start Tile, End Tile ]
- Resolution: 9783.93962049996
- Scale: 3.6978595474472E7
-
Level ID: 5
[ Start Tile, End Tile ]
- Resolution: 4891.96981024998
- Scale: 1.8489297737236E7
- Format: PNG
- Compression Quality: 0.0
- Origin: X: -2.0037508342787E7
Y: 2.0037508342787E7
- Spatial Reference: 102100
(3857)
LatestVCSWkid(0)
Storage Info:
- Storage Format: esriMapCacheStorageModeCompactV2
- Packet Size: 128
Initial Extent:
XMin: 1545946.9562369264
YMin: 6287152.5448936075
XMax: 2741846.378737809
YMax: 7308603.311790359
Spatial Reference: 102100
(0)
LatestVCSWkid(0)
Full Extent:
XMin: 1547145.8772555846
YMin: 6268148.677503326
XMax: 2740809.8287153426
YMax: 7309728.039754587
Spatial Reference: 102100
(0)
LatestVCSWkid(0)
Units: esriMeters
Supported Image Format Types: PNG32,PNG24,PNG,JPG,DIB,TIFF,EMF,PS,PDF,GIF,SVG,SVGZ,BMP
Document Info:
Title: Mapa_turystyczna_mBDL
Author:
Comments: Mapa turystyczna bazująca na nowej bazie danych bdl_turystyka - bez szlaków i obozowisk harcerskich
Subject: Mapa turystyczna - serwis mobilny Mapa_turystyczna_mBDL
Category:
Keywords: mbdl
AntialiasingMode: Fast
TextAntialiasingMode: Force
Supports Dynamic Layers: true
MaxRecordCount: 2000
MaxImageHeight: 4096
MaxImageWidth: 4096
Supported Query Formats: JSON, geoJSON, PBF
Supports Query Data Elements: true
Min Scale: 9244648.868618
Max Scale: 4513.988705
Supports Datum Transformation: true
Child Resources:
Info
Dynamic Layer
Supported Operations:
Export Map
Identify
QueryLegends
QueryDomains
Find
Return Updates